BEGIN:VCALENDAR
VERSION:2.0
PRODID:-//Observatorio Minero - ECPv6.15.17.1//NONSGML v1.0//EN
CALSCALE:GREGORIAN
METHOD:PUBLISH
X-ORIGINAL-URL:https://observatoriominero.cl
X-WR-CALDESC:Eventos para Observatorio Minero
REFRESH-INTERVAL;VALUE=DURATION:PT1H
X-Robots-Tag:noindex
X-PUBLISHED-TTL:PT1H
BEGIN:VTIMEZONE
TZID:UTC
BEGIN:STANDARD
TZOFFSETFROM:+0000
TZOFFSETTO:+0000
TZNAME:UTC
DTSTART:20250101T000000
END:STANDARD
END:VTIMEZONE
BEGIN:VEVENT
DTSTART;TZID=UTC:20260410T110000
DTEND;TZID=UTC:20260410T170000
DTSTAMP:20260419T165917
CREATED:20260324T112010Z
LAST-MODIFIED:20260324T112010Z
UID:1889-1775818800-1775840400@observatoriominero.cl
SUMMARY:Plan de acción para el año
DESCRIPTION:Primer encuentro  presencial 
URL:https://observatoriominero.cl/index.php/event/plan-de-accion-para-el-ano/
LOCATION:Observatorio Minero\, a anunciar\, Valparaíso\, Valparaíso\, Chile
END:VEVENT
END:VCALENDAR